BEGIN:VCALENDAR
VERSION:2.0
PRODID:-//Harklin Creations - ECPv6.15.20//NONSGML v1.0//EN
CALSCALE:GREGORIAN
METHOD:PUBLISH
X-WR-CALNAME:Harklin Creations
X-ORIGINAL-URL:https://harklincreations.com
X-WR-CALDESC:Events for Harklin Creations
REFRESH-INTERVAL;VALUE=DURATION:PT1H
X-Robots-Tag:noindex
X-PUBLISHED-TTL:PT1H
BEGIN:VTIMEZONE
TZID:Europe/London
BEGIN:DAYLIGHT
TZOFFSETFROM:+0000
TZOFFSETTO:+0100
TZNAME:BST
DTSTART:20240331T010000
END:DAYLIGHT
BEGIN:STANDARD
TZOFFSETFROM:+0100
TZOFFSETTO:+0000
TZNAME:GMT
DTSTART:20241027T010000
END:STANDARD
BEGIN:DAYLIGHT
TZOFFSETFROM:+0000
TZOFFSETTO:+0100
TZNAME:BST
DTSTART:20250330T010000
END:DAYLIGHT
BEGIN:STANDARD
TZOFFSETFROM:+0100
TZOFFSETTO:+0000
TZNAME:GMT
DTSTART:20251026T010000
END:STANDARD
BEGIN:DAYLIGHT
TZOFFSETFROM:+0000
TZOFFSETTO:+0100
TZNAME:BST
DTSTART:20260329T010000
END:DAYLIGHT
BEGIN:STANDARD
TZOFFSETFROM:+0100
TZOFFSETTO:+0000
TZNAME:GMT
DTSTART:20261025T010000
END:STANDARD
END:VTIMEZONE
BEGIN:VEVENT
DTSTART;TZID=Europe/London:20250929T193000
DTEND;TZID=Europe/London:20250929T210000
DTSTAMP:20260422T142039
CREATED:20250701T092736Z
LAST-MODIFIED:20250914T080244Z
UID:10000091-1759174200-1759179600@harklincreations.com
SUMMARY:Pumpkin Decoupage Workshop
DESCRIPTION:Learn how to decoupage two faux mini pumpkins!\n Held at:  HARKLIN Studio\, 24a Rayleigh Avenue\, Leigh On Sea (Eastwood)\, Essex\, SS9 5DR (\n£15 per person.  \nThere is free street parking all along Rayleigh Avenue or surrounding roads. \nTicket price includes entry for 1 and includes a cold drink/tea/coffee and a selection of biscuits. Dietary requirements can be catered for (please do let me know in advance). Due to limited space in the studio\, every person attending requires a ticket. \nYour workshop host will be Karen. \nGet your creativity flowing in this workshop! During this workshop you will choose from a huge selection of decorated napkins. These range from autumnal prints\, florals\, animals\, cute…there really is so much choice! You will then be shown how to do the simple but very effective technique of decoupage to decorate your pumpkins. \nYou will decorate two pumpkins to take home. These make great decorative items in your home! Or even a lovely gift for a loved one. \nNo experience is necessary\, and don’t worry if you would class yourself as “not a very creative person”!! We’ll be on hand to help where needed. \nUpon purchasing you will receive an email confirmation. Please arrive 5 minutes before the workshop is due to begin. As we will be working with glue\,  I’d suggest not wearing your best clothes! Tickets can be refunded for those who are unable to attend as long as 7 days notice has been given before the workshop is due to take place. Refunds are not available after this time\, but depending on availability I may be able to defer your ticket to another upcoming event\, this is on a case by case basis. \nPlease email me at hello@harklincreations.com or whatsapp/call 07768 270076 if you need to cancel your booking. \n**Harklin Studio is located at the bottom of my garden. Please ensure you arrive at 24a (not my neighbour at 24!) My House is on the corner of Springwater Drive\, there will be a white car on the driveway (Harklin logo on the side!). Please enter through the gate on the right side of the property (There will be a Harklin Logo on the gate- you can’t miss it!) and walk down to the studio (everything will be clearly directed!)**
URL:https://harklincreations.com/event/pumpkin-decoupage-workshop/
LOCATION:Harklin Creations Studio\, 24A Rayleigh Avenue\, Leigh On Sea\, Essex\, SS9 5DR\, United Kingdom
CATEGORIES:Decoupage Workshops
ORGANIZER;CN="Harklin Creations Ltd":MAILTO:hello@harklincreations.com
END:VEVENT
END:VCALENDAR