BEGIN:VCALENDAR
VERSION:2.0
PRODID:-//Harklin Creations - ECPv6.15.20//NONSGML v1.0//EN
CALSCALE:GREGORIAN
METHOD:PUBLISH
X-WR-CALNAME:Harklin Creations
X-ORIGINAL-URL:https://harklincreations.com
X-WR-CALDESC:Events for Harklin Creations
REFRESH-INTERVAL;VALUE=DURATION:PT1H
X-Robots-Tag:noindex
X-PUBLISHED-TTL:PT1H
BEGIN:VTIMEZONE
TZID:Europe/London
BEGIN:DAYLIGHT
TZOFFSETFROM:+0000
TZOFFSETTO:+0100
TZNAME:BST
DTSTART:20240331T010000
END:DAYLIGHT
BEGIN:STANDARD
TZOFFSETFROM:+0100
TZOFFSETTO:+0000
TZNAME:GMT
DTSTART:20241027T010000
END:STANDARD
BEGIN:DAYLIGHT
TZOFFSETFROM:+0000
TZOFFSETTO:+0100
TZNAME:BST
DTSTART:20250330T010000
END:DAYLIGHT
BEGIN:STANDARD
TZOFFSETFROM:+0100
TZOFFSETTO:+0000
TZNAME:GMT
DTSTART:20251026T010000
END:STANDARD
BEGIN:DAYLIGHT
TZOFFSETFROM:+0000
TZOFFSETTO:+0100
TZNAME:BST
DTSTART:20260329T010000
END:DAYLIGHT
BEGIN:STANDARD
TZOFFSETFROM:+0100
TZOFFSETTO:+0000
TZNAME:GMT
DTSTART:20261025T010000
END:STANDARD
END:VTIMEZONE
BEGIN:VEVENT
DTSTART;TZID=Europe/London:20250811T103000
DTEND;TZID=Europe/London:20250811T113000
DTSTAMP:20260423T045949
CREATED:20250701T084331Z
LAST-MODIFIED:20250723T165756Z
UID:10000043-1754908200-1754911800@harklincreations.com
SUMMARY:Children's Jewellery Workshop
DESCRIPTION:Decorate and make your own jewellery! \nHeld at: Harklin Creations Studio\, 24a Rayleigh Avenue\, Leigh On Sea (Eastwood)\, Essex\, SS9 5DR  \n£15 per person.  \nSuitable for ages 7-15 years. Under 12’s must be accompanied by an adult. \nTicket price includes entry for 1 and includes a cold drink and biscuits. Dietary requirements can be catered for (please do let me know in advance). Due to limited space in the studio\, every person attending requires a ticket. \nYour workshop host will be Lauren. \nGet your creativity flowing in this workshop! During this workshop you will choose from a selection of pre-baked Polymer Clay pieces created by me.  You will be using acrylic paint pens to colour/decorate the clay pieces\, then drill them and assemble to make your jewellery. You will have a choice of fabric necklaces/bracelets or gold/silver earring hooks (stainless steel and suitable for sensitive ears). \nThere are a number of other upgrade options available (at a small additional cost). Cash/Card accepted. \nYou can create 2 pieces of jewellery\, e.g 1 pair of earrings and a necklace\, or 2 pairs of earrings\, or 1 necklace and 1 bracelet. \nNo experience is necessary\, and don’t worry if you would class yourself as “not a very creative person”! I’ll be on hand to help where needed and there will be plenty of inspiration of colours/styles/pre-designed pieces to help get you started! \nUpon purchasing you will receive an email confirmation. Please arrive 5 minutes before the workshop is due to begin. As we will be working with pens i’d suggest not wearing your best clothes! Tickets can be refunded for those who are unable to attend as long as 7 days notice has been given before the workshop is due to take place. Refunds are not available after this time\, but depending on availability I may be able to defer your ticket to another upcoming event\, this is on a case by case basis. \nPlease email me at hello@harklincreations.com or whatsapp/call 07768 270076 if you need to cancel your booking.
URL:https://harklincreations.com/event/childrens-jewellery-workshop-6/
LOCATION:Harklin Creations Studio\, 24A Rayleigh Avenue\, Leigh On Sea\, Essex\, SS9 5DR\, United Kingdom
CATEGORIES:Children's Jewellery Making
ATTACH;FMTTYPE=image/jpeg:https://harklincreations.com/wp-content/uploads/2025/06/Childrens-jewellery-workshop.jpg
ORGANIZER;CN="Harklin Creations Ltd":MAILTO:hello@harklincreations.com
END:VEVENT
END:VCALENDAR